Workbook

Sheet 様式Ⅰ・大会参加申込書
A1: 高松宮記念杯男子第６９回・女子第６２回 令和８年度全日本学生ハンドボール選手権大会 | R1: 様式Ⅰ
A2: 参加申込書
A3: 大学名 | H3: 大学所在地 | J3: 〒
H5: TEL | N5: FAX
A6: 連絡者名 | H6: 連絡者住所 | J6: 〒
H8: E-mail | N8: 携帯
A10: ユニフォームの色 | C10: CP① | E10: ／ | H10: GK① | I10: ／ | L10: ユニフォーム への広告 | O10: CP① | Q10: GK①
C11: CP② | E11: ／ | H11: GK② | I11: ／ | O11: CP② | Q11: GK②
C12: CP③ | E12: ／ | H12: GK③ | I12: ／ | O12: CP③ | Q12: GK③
A13: 役職① | F13: 氏名 | L13: 役職④ | O13: 氏名
A14: 役職② | F14: 氏名 | L14: 役職⑤ | O14: 氏名
A15: 役職③ | F15: 氏名 | L15: 役職⑥ | O15: 氏名
A17: 背番号 | B17: 氏 名 | G17: 生年月日 | I17: 学部 | L17: 学年 | M17: 出身高校 | P17: 身長(cm) | R17: 利腕
A18: 1
A19: 2
A20: 3
A21: 4
A22: 5
A23: 6
A24: 7
A25: 8
A26: 9
A27: 10
A28: 11
A29: 12
A30: 13
... A42: 25
A44: ◇上記により本大会の参加を申し込みます。上記参加者の健康状態については身体に異常を認めず、またチーム責任者のもとにこの大会に参加することを同意します。
A46: 令和８年 月 日 | F46: 大学 | J46: チーム代表 | M46: （部長又は監督） | S46: 印
A47: ◇上記チームの標記大会参加を承認致します。
A49: 令和８年 月 日 | F49: 大学 | L49: （学長又は学生部長） | S49: 印
A50: ◇上記により、 | J50: 学連を代表し、標記大会の参加申し込みをいたします。
A52: 令和８年 月 日 | K52: 学生ハンドボール連盟会長 | S52: 印

Sheet 様式Ⅱ①・役員・登録選手情報
A1: 役員・登録選手情報 | G1: 様式Ⅱ①
A3: 【チーム役員】
B4: 役職名 | C4: 氏名 | D4: 出身校
A5: 役職① | B5: =IF(LEN(様式Ⅰ・大会参加申込書!C13)>0,様式Ⅰ・大会参加申込書!C13,"") | C5: =IF(LEN(様式Ⅰ・大会参加申込書!G13)>0,様式Ⅰ・大会参加申込書!G13,"")
A6: 役職② | B6: =IF(LEN(様式Ⅰ・大会参加申込書!C14)>0,様式Ⅰ・大会参加申込書!C14,"") | C6: =IF(LEN(様式Ⅰ・大会参加申込書!G14)>0,様式Ⅰ・大会参加申込書!G14,"")
A7: 役職③ | B7: =IF(LEN(様式Ⅰ・大会参加申込書!C15)>0,様式Ⅰ・大会参加申込書!C15,"") | C7: =IF(LEN(様式Ⅰ・大会参加申込書!G15)>0,様式Ⅰ・大会参加申込書!G15,"")
A8: 役職④ | B8: =IF(LEN(様式Ⅰ・大会参加申込書!N13)>0,様式Ⅰ・大会参加申込書!N13,"") | C8: =IF(LEN(様式Ⅰ・大会参加申込書!P13)>0,様式Ⅰ・大会参加申込書!P13,"")
A9: 役職⑤ | B9: =IF(LEN(様式Ⅰ・大会参加申込書!N14)>0,様式Ⅰ・大会参加申込書!N14,"") | C9: =IF(LEN(様式Ⅰ・大会参加申込書!P14)>0,様式Ⅰ・大会参加申込書!P14,"")
A10: 役職⑥ | B10: =IF(LEN(様式Ⅰ・大会参加申込書!N15)>0,様式Ⅰ・大会参加申込書!N15,"") | C10: =IF(LEN(様式Ⅰ・大会参加申込書!P15)>0,様式Ⅰ・大会参加申込書!P15,"")
A12: 【登録選手】
A13: 選手
A14: 背番号 | B14: 氏名（性） | C14: 氏名（名） | D14: 学年 | E14: 身長 | F14: 利き腕 | G14: 出身校
A15: =IF(LEN(様式Ⅰ・大会参加申込書!A18)>0,様式Ⅰ・大会参加申込書!A18,"") -> 1 | B15: =IF(LEN(様式Ⅰ・大会参加申込書!B18)>0,LEFT(様式Ⅰ・大会参加申込書!B18,FIND(" ",様式Ⅰ・大会参加申込書!B18)),"") | C15: =IF(LEN(様式Ⅰ・大会参加申込書!B18)>0,RIGHT(様式Ⅰ・大会参加申込書!B18,FIND(" ",様式Ⅰ・大会参加申込書!B18)),"") | D15: =IF(LEN(様式Ⅰ・大会参加申込書!L18)>0,様式Ⅰ・大会参加申込書!L18,"") | E15: =IF(LEN(様式Ⅰ・大会参加申込書!P18)>0,様式Ⅰ・大会参加申込書!P18,"") | F15: =IF(LEN(様式Ⅰ・大会参加申込書!R18)>0,様式Ⅰ・大会参加申込書!R18,"") | G15: =IF(LEN(様式Ⅰ・大会参加申込書!M18)>0,様式Ⅰ・大会参加申込書!M18,"")
A16: =IF(LEN(様式Ⅰ・大会参加申込書!A19)>0,様式Ⅰ・大会参加申込書!A19,"") -> 2 | B16: =IF(LEN(様式Ⅰ・大会参加申込書!B19)>0,LEFT(様式Ⅰ・大会参加申込書!B19,FIND(" ",様式Ⅰ・大会参加申込書!B19)),"") | C16: =IF(LEN(様式Ⅰ・大会参加申込書!B19)>0,RIGHT(様式Ⅰ・大会参加申込書!B19,FIND(" ",様式Ⅰ・大会参加申込書!B19)),"") | D16: =IF(LEN(様式Ⅰ・大会参加申込書!L19)>0,様式Ⅰ・大会参加申込書!L19,"") | E16: =IF(LEN(様式Ⅰ・大会参加申込書!P19)>0,様式Ⅰ・大会参加申込書!P19,"") | F16: =IF(LEN(様式Ⅰ・大会参加申込書!R19)>0,様式Ⅰ・大会参加申込書!R19,"") | G16: =IF(LEN(様式Ⅰ・大会参加申込書!M19)>0,様式Ⅰ・大会参加申込書!M19,"")
A17: =IF(LEN(様式Ⅰ・大会参加申込書!A20)>0,様式Ⅰ・大会参加申込書!A20,"") -> 3 | B17: =IF(LEN(様式Ⅰ・大会参加申込書!B20)>0,LEFT(様式Ⅰ・大会参加申込書!B20,FIND(" ",様式Ⅰ・大会参加申込書!B20)),"") | C17: =IF(LEN(様式Ⅰ・大会参加申込書!B20)>0,RIGHT(様式Ⅰ・大会参加申込書!B20,FIND(" ",様式Ⅰ・大会参加申込書!B20)),"") | D17: =IF(LEN(様式Ⅰ・大会参加申込書!L20)>0,様式Ⅰ・大会参加申込書!L20,"") | E17: =IF(LEN(様式Ⅰ・大会参加申込書!P20)>0,様式Ⅰ・大会参加申込書!P20,"") | F17: =IF(LEN(様式Ⅰ・大会参加申込書!R20)>0,様式Ⅰ・大会参加申込書!R20,"") | G17: =IF(LEN(様式Ⅰ・大会参加申込書!M20)>0,様式Ⅰ・大会参加申込書!M20,"")
A18: =IF(LEN(様式Ⅰ・大会参加申込書!A21)>0,様式Ⅰ・大会参加申込書!A21,"") -> 4 | B18: =IF(LEN(様式Ⅰ・大会参加申込書!B21)>0,LEFT(様式Ⅰ・大会参加申込書!B21,FIND(" ",様式Ⅰ・大会参加申込書!B21)),"") | C18: =IF(LEN(様式Ⅰ・大会参加申込書!B21)>0,RIGHT(様式Ⅰ・大会参加申込書!B21,FIND(" ",様式Ⅰ・大会参加申込書!B21)),"") | D18: =IF(LEN(様式Ⅰ・大会参加申込書!L21)>0,様式Ⅰ・大会参加申込書!L21,"") | E18: =IF(LEN(様式Ⅰ・大会参加申込書!P21)>0,様式Ⅰ・大会参加申込書!P21,"") | F18: =IF(LEN(様式Ⅰ・大会参加申込書!R21)>0,様式Ⅰ・大会参加申込書!R21,"") | G18: =IF(LEN(様式Ⅰ・大会参加申込書!M21)>0,様式Ⅰ・大会参加申込書!M21,"")
A19: =IF(LEN(様式Ⅰ・大会参加申込書!A22)>0,様式Ⅰ・大会参加申込書!A22,"") -> 5 | B19: =IF(LEN(様式Ⅰ・大会参加申込書!B22)>0,LEFT(様式Ⅰ・大会参加申込書!B22,FIND(" ",様式Ⅰ・大会参加申込書!B22)),"") | C19: =IF(LEN(様式Ⅰ・大会参加申込書!B22)>0,RIGHT(様式Ⅰ・大会参加申込書!B22,FIND(" ",様式Ⅰ・大会参加申込書!B22)),"") | D19: =IF(LEN(様式Ⅰ・大会参加申込書!L22)>0,様式Ⅰ・大会参加申込書!L22,"") | E19: =IF(LEN(様式Ⅰ・大会参加申込書!P22)>0,様式Ⅰ・大会参加申込書!P22,"") | F19: =IF(LEN(様式Ⅰ・大会参加申込書!R22)>0,様式Ⅰ・大会参加申込書!R22,"") | G19: =IF(LEN(様式Ⅰ・大会参加申込書!M22)>0,様式Ⅰ・大会参加申込書!M22,"")
A20: =IF(LEN(様式Ⅰ・大会参加申込書!A23)>0,様式Ⅰ・大会参加申込書!A23,"") -> 6 | B20: =IF(LEN(様式Ⅰ・大会参加申込書!B23)>0,LEFT(様式Ⅰ・大会参加申込書!B23,FIND(" ",様式Ⅰ・大会参加申込書!B23)),"") | C20: =IF(LEN(様式Ⅰ・大会参加申込書!B23)>0,RIGHT(様式Ⅰ・大会参加申込書!B23,FIND(" ",様式Ⅰ・大会参加申込書!B23)),"") | D20: =IF(LEN(様式Ⅰ・大会参加申込書!L23)>0,様式Ⅰ・大会参加申込書!L23,"") | E20: =IF(LEN(様式Ⅰ・大会参加申込書!P23)>0,様式Ⅰ・大会参加申込書!P23,"") | F20: =IF(LEN(様式Ⅰ・大会参加申込書!R23)>0,様式Ⅰ・大会参加申込書!R23,"") | G20: =IF(LEN(様式Ⅰ・大会参加申込書!M23)>0,様式Ⅰ・大会参加申込書!M23,"")
A21: =IF(LEN(様式Ⅰ・大会参加申込書!A24)>0,様式Ⅰ・大会参加申込書!A24,"") -> 7 | B21: =IF(LEN(様式Ⅰ・大会参加申込書!B24)>0,LEFT(様式Ⅰ・大会参加申込書!B24,FIND(" ",様式Ⅰ・大会参加申込書!B24)),"") | C21: =IF(LEN(様式Ⅰ・大会参加申込書!B24)>0,RIGHT(様式Ⅰ・大会参加申込書!B24,FIND(" ",様式Ⅰ・大会参加申込書!B24)),"") | D21: =IF(LEN(様式Ⅰ・大会参加申込書!L24)>0,様式Ⅰ・大会参加申込書!L24,"") | E21: =IF(LEN(様式Ⅰ・大会参加申込書!P24)>0,様式Ⅰ・大会参加申込書!P24,"") | F21: =IF(LEN(様式Ⅰ・大会参加申込書!R24)>0,様式Ⅰ・大会参加申込書!R24,"") | G21: =IF(LEN(様式Ⅰ・大会参加申込書!M24)>0,様式Ⅰ・大会参加申込書!M24,"")
A22: =IF(LEN(様式Ⅰ・大会参加申込書!A25)>0,様式Ⅰ・大会参加申込書!A25,"") -> 8 | B22: =IF(LEN(様式Ⅰ・大会参加申込書!B25)>0,LEFT(様式Ⅰ・大会参加申込書!B25,FIND(" ",様式Ⅰ・大会参加申込書!B25)),"") | C22: =IF(LEN(様式Ⅰ・大会参加申込書!B25)>0,RIGHT(様式Ⅰ・大会参加申込書!B25,FIND(" ",様式Ⅰ・大会参加申込書!B25)),"") | D22: =IF(LEN(様式Ⅰ・大会参加申込書!L25)>0,様式Ⅰ・大会参加申込書!L25,"") | E22: =IF(LEN(様式Ⅰ・大会参加申込書!P25)>0,様式Ⅰ・大会参加申込書!P25,"") | F22: =IF(LEN(様式Ⅰ・大会参加申込書!R25)>0,様式Ⅰ・大会参加申込書!R25,"") | G22: =IF(LEN(様式Ⅰ・大会参加申込書!M25)>0,様式Ⅰ・大会参加申込書!M25,"")
A23: =IF(LEN(様式Ⅰ・大会参加申込書!A26)>0,様式Ⅰ・大会参加申込書!A26,"") -> 9 | B23: =IF(LEN(様式Ⅰ・大会参加申込書!B26)>0,LEFT(様式Ⅰ・大会参加申込書!B26,FIND(" ",様式Ⅰ・大会参加申込書!B26)),"") | C23: =IF(LEN(様式Ⅰ・大会参加申込書!B26)>0,RIGHT(様式Ⅰ・大会参加申込書!B26,FIND(" ",様式Ⅰ・大会参加申込書!B26)),"") | D23: =IF(LEN(様式Ⅰ・大会参加申込書!L26)>0,様式Ⅰ・大会参加申込書!L26,"") | E23: =IF(LEN(様式Ⅰ・大会参加申込書!P26)>0,様式Ⅰ・大会参加申込書!P26,"") | F23: =IF(LEN(様式Ⅰ・大会参加申込書!R26)>0,様式Ⅰ・大会参加申込書!R26,"") | G23: =IF(LEN(様式Ⅰ・大会参加申込書!M26)>0,様式Ⅰ・大会参加申込書!M26,"")
A24: =IF(LEN(様式Ⅰ・大会参加申込書!A27)>0,様式Ⅰ・大会参加申込書!A27,"") -> 10 | B24: =IF(LEN(様式Ⅰ・大会参加申込書!B27)>0,LEFT(様式Ⅰ・大会参加申込書!B27,FIND(" ",様式Ⅰ・大会参加申込書!B27)),"") | C24: =IF(LEN(様式Ⅰ・大会参加申込書!B27)>0,RIGHT(様式Ⅰ・大会参加申込書!B27,FIND(" ",様式Ⅰ・大会参加申込書!B27)),"") | D24: =IF(LEN(様式Ⅰ・大会参加申込書!L27)>0,様式Ⅰ・大会参加申込書!L27,"") | E24: =IF(LEN(様式Ⅰ・大会参加申込書!P27)>0,様式Ⅰ・大会参加申込書!P27,"") | F24: =IF(LEN(様式Ⅰ・大会参加申込書!R27)>0,様式Ⅰ・大会参加申込書!R27,"") | G24: =IF(LEN(様式Ⅰ・大会参加申込書!M27)>0,様式Ⅰ・大会参加申込書!M27,"")
A25: =IF(LEN(様式Ⅰ・大会参加申込書!A28)>0,様式Ⅰ・大会参加申込書!A28,"") -> 11 | B25: =IF(LEN(様式Ⅰ・大会参加申込書!B28)>0,LEFT(様式Ⅰ・大会参加申込書!B28,FIND(" ",様式Ⅰ・大会参加申込書!B28)),"") | C25: =IF(LEN(様式Ⅰ・大会参加申込書!B28)>0,RIGHT(様式Ⅰ・大会参加申込書!B28,FIND(" ",様式Ⅰ・大会参加申込書!B28)),"") | D25: =IF(LEN(様式Ⅰ・大会参加申込書!L28)>0,様式Ⅰ・大会参加申込書!L28,"") | E25: =IF(LEN(様式Ⅰ・大会参加申込書!P28)>0,様式Ⅰ・大会参加申込書!P28,"") | F25: =IF(LEN(様式Ⅰ・大会参加申込書!R28)>0,様式Ⅰ・大会参加申込書!R28,"") | G25: =IF(LEN(様式Ⅰ・大会参加申込書!M28)>0,様式Ⅰ・大会参加申込書!M28,"")
A26: =IF(LEN(様式Ⅰ・大会参加申込書!A29)>0,様式Ⅰ・大会参加申込書!A29,"") -> 12 | B26: =IF(LEN(様式Ⅰ・大会参加申込書!B29)>0,LEFT(様式Ⅰ・大会参加申込書!B29,FIND(" ",様式Ⅰ・大会参加申込書!B29)),"") | C26: =IF(LEN(様式Ⅰ・大会参加申込書!B29)>0,RIGHT(様式Ⅰ・大会参加申込書!B29,FIND(" ",様式Ⅰ・大会参加申込書!B29)),"") | D26: =IF(LEN(様式Ⅰ・大会参加申込書!L29)>0,様式Ⅰ・大会参加申込書!L29,"") | E26: =IF(LEN(様式Ⅰ・大会参加申込書!P29)>0,様式Ⅰ・大会参加申込書!P29,"") | F26: =IF(LEN(様式Ⅰ・大会参加申込書!R29)>0,様式Ⅰ・大会参加申込書!R29,"") | G26: =IF(LEN(様式Ⅰ・大会参加申込書!M29)>0,様式Ⅰ・大会参加申込書!M29,"")
... A39: =IF(LEN(様式Ⅰ・大会参加申込書!A42)>0,様式Ⅰ・大会参加申込書!A42,"") -> 25 | B39: =IF(LEN(様式Ⅰ・大会参加申込書!B42)>0,LEFT(様式Ⅰ・大会参加申込書!B42,FIND(" ",様式Ⅰ・大会参加申込書!B42)),"") | C39: =IF(LEN(様式Ⅰ・大会参加申込書!B42)>0,RIGHT(様式Ⅰ・大会参加申込書!B42,FIND(" ",様式Ⅰ・大会参加申込書!B42)),"") | D39: =IF(LEN(様式Ⅰ・大会参加申込書!L42)>0,様式Ⅰ・大会参加申込書!L42,"") | E39: =IF(LEN(様式Ⅰ・大会参加申込書!P42)>0,様式Ⅰ・大会参加申込書!P42,"") | F39: =IF(LEN(様式Ⅰ・大会参加申込書!R42)>0,様式Ⅰ・大会参加申込書!R42,"") | G39: =IF(LEN(様式Ⅰ・大会参加申込書!M42)>0,様式Ⅰ・大会参加申込書!M42,"")

Sheet 顔写真 役員・選手
B1: =様式Ⅰ・大会参加申込書!B3 -> 0
B2: 【役員】
B3: ① | D3: ② | F3: ③ | H3: ④ | J3: ⑤ | L3: ⑥
A4: 役職名 | B4: =IF(LEN(様式Ⅰ・大会参加申込書!C13)>0,様式Ⅰ・大会参加申込書!C13,"") | D4: =IF(LEN(様式Ⅰ・大会参加申込書!C14)>0,様式Ⅰ・大会参加申込書!C14,"") | F4: =IF(LEN(様式Ⅰ・大会参加申込書!C15)>0,様式Ⅰ・大会参加申込書!C15,"") | H4: =IF(LEN(様式Ⅰ・大会参加申込書!N13)>0,様式Ⅰ・大会参加申込書!N13,"") | J4: =IF(LEN(様式Ⅰ・大会参加申込書!N14)>0,様式Ⅰ・大会参加申込書!N14,"") | L4: =IF(LEN(様式Ⅰ・大会参加申込書!N15)>0,様式Ⅰ・大会参加申込書!N15,"")
A5: 氏名 | B5: =IF(LEN(様式Ⅰ・大会参加申込書!G13)>0,様式Ⅰ・大会参加申込書!G13,"") | D5: =IF(LEN(様式Ⅰ・大会参加申込書!G14)>0,様式Ⅰ・大会参加申込書!G14,"") | F5: =IF(LEN(様式Ⅰ・大会参加申込書!G15)>0,様式Ⅰ・大会参加申込書!G15,"") | H5: =IF(LEN(様式Ⅰ・大会参加申込書!P13)>0,様式Ⅰ・大会参加申込書!P13,"") | J5: =IF(LEN(様式Ⅰ・大会参加申込書!P14)>0,様式Ⅰ・大会参加申込書!P14,"") | L5: =IF(LEN(様式Ⅰ・大会参加申込書!P15)>0,様式Ⅰ・大会参加申込書!P15,"")
A6: 出身校 | B6: =IF(LEN(様式Ⅱ①・役員・登録選手情報!D5)>0,様式Ⅱ①・役員・登録選手情報!D5,"") | D6: =IF(LEN(様式Ⅱ①・役員・登録選手情報!D6)>0,様式Ⅱ①・役員・登録選手情報!D6,"") | F6: =IF(LEN(様式Ⅱ①・役員・登録選手情報!D7)>0,様式Ⅱ①・役員・登録選手情報!D7,"") | H6: =IF(LEN(様式Ⅱ①・役員・登録選手情報!D8)>0,様式Ⅱ①・役員・登録選手情報!D8,"") | J6: =IF(LEN(様式Ⅱ①・役員・登録選手情報!D9)>0,様式Ⅱ①・役員・登録選手情報!D9,"") | L6: =IF(LEN(様式Ⅱ①・役員・登録選手情報!D10)>0,様式Ⅱ①・役員・登録選手情報!D10,"")
B8: =IF(LEN(様式Ⅰ・大会参加申込書!A18)>0,様式Ⅰ・大会参加申込書!A18,"") -> 1 | D8: =IF(LEN(様式Ⅰ・大会参加申込書!A19)>0,様式Ⅰ・大会参加申込書!A19,"") -> 2 | F8: =IF(LEN(様式Ⅰ・大会参加申込書!A20)>0,様式Ⅰ・大会参加申込書!A20,"") -> 3 | H8: =IF(LEN(様式Ⅰ・大会参加申込書!A21)>0,様式Ⅰ・大会参加申込書!A21,"") -> 4 | J8: =IF(LEN(様式Ⅰ・大会参加申込書!A22)>0,様式Ⅰ・大会参加申込書!A22,"") -> 5 | U8: =IF(LEN(様式Ⅰ・大会参加申込書!B18)>0,様式Ⅰ・大会参加申込書!B18,"")
A9: 氏名 | B9: =IF(LEN(様式Ⅰ・大会参加申込書!B18)>0,様式Ⅰ・大会参加申込書!B18,"") | D9: =IF(LEN(様式Ⅰ・大会参加申込書!B19)>0,様式Ⅰ・大会参加申込書!B19,"") | F9: =IF(LEN(様式Ⅰ・大会参加申込書!B20)>0,様式Ⅰ・大会参加申込書!B20,"") | H9: =IF(LEN(様式Ⅰ・大会参加申込書!B21)>0,様式Ⅰ・大会参加申込書!B21,"") | J9: =IF(LEN(様式Ⅰ・大会参加申込書!B22)>0,様式Ⅰ・大会参加申込書!B22,"") | U9: =IF(LEN(様式Ⅰ・大会参加申込書!B19)>0,様式Ⅰ・大会参加申込書!B19,"")
B12: =IF(LEN(様式Ⅰ・大会参加申込書!A23)>0,様式Ⅰ・大会参加申込書!A23,"") -> 6 | D12: =IF(LEN(様式Ⅰ・大会参加申込書!A24)>0,様式Ⅰ・大会参加申込書!A24,"") -> 7 | F12: =IF(LEN(様式Ⅰ・大会参加申込書!A25)>0,様式Ⅰ・大会参加申込書!A25,"") -> 8 | H12: =IF(LEN(様式Ⅰ・大会参加申込書!A26)>0,様式Ⅰ・大会参加申込書!A26,"") -> 9 | J12: =IF(LEN(様式Ⅰ・大会参加申込書!A27)>0,様式Ⅰ・大会参加申込書!A27,"") -> 10
A13: 氏名 | B13: =IF(LEN(様式Ⅰ・大会参加申込書!B23)>0,様式Ⅰ・大会参加申込書!B23,"") | D13: =IF(LEN(様式Ⅰ・大会参加申込書!B24)>0,様式Ⅰ・大会参加申込書!B24,"") | F13: =IF(LEN(様式Ⅰ・大会参加申込書!B25)>0,様式Ⅰ・大会参加申込書!B25,"") | H13: =IF(LEN(様式Ⅰ・大会参加申込書!B26)>0,様式Ⅰ・大会参加申込書!B26,"") | J13: =IF(LEN(様式Ⅰ・大会参加申込書!B27)>0,様式Ⅰ・大会参加申込書!B27,"")
B16: =IF(LEN(様式Ⅰ・大会参加申込書!A28)>0,様式Ⅰ・大会参加申込書!A28,"") -> 11 | D16: =IF(LEN(様式Ⅰ・大会参加申込書!A29)>0,様式Ⅰ・大会参加申込書!A29,"") -> 12 | F16: =IF(LEN(様式Ⅰ・大会参加申込書!A30)>0,様式Ⅰ・大会参加申込書!A30,"") -> 13 | H16: =IF(LEN(様式Ⅰ・大会参加申込書!A31)>0,様式Ⅰ・大会参加申込書!A31,"") -> 14 | J16: =IF(LEN(様式Ⅰ・大会参加申込書!A32)>0,様式Ⅰ・大会参加申込書!A32,"") -> 15
A17: 氏名 | B17: =IF(LEN(様式Ⅰ・大会参加申込書!B28)>0,様式Ⅰ・大会参加申込書!B28,"") | D17: =IF(LEN(様式Ⅰ・大会参加申込書!B29)>0,様式Ⅰ・大会参加申込書!B29,"") | F17: =IF(LEN(様式Ⅰ・大会参加申込書!B30)>0,様式Ⅰ・大会参加申込書!B30,"") | H17: =IF(LEN(様式Ⅰ・大会参加申込書!B31)>0,様式Ⅰ・大会参加申込書!B31,"") | J17: =IF(LEN(様式Ⅰ・大会参加申込書!B32)>0,様式Ⅰ・大会参加申込書!B32,"")
B20: =IF(LEN(様式Ⅰ・大会参加申込書!A33)>0,様式Ⅰ・大会参加申込書!A33,"") -> 16 | D20: =IF(LEN(様式Ⅰ・大会参加申込書!A34)>0,様式Ⅰ・大会参加申込書!A34,"") -> 17 | F20: =IF(LEN(様式Ⅰ・大会参加申込書!A35)>0,様式Ⅰ・大会参加申込書!A35,"") -> 18 | H20: =IF(LEN(様式Ⅰ・大会参加申込書!A36)>0,様式Ⅰ・大会参加申込書!A36,"") -> 19 | J20: =IF(LEN(様式Ⅰ・大会参加申込書!A37)>0,様式Ⅰ・大会参加申込書!A37,"") -> 20
A21: 氏名 | B21: =IF(LEN(様式Ⅰ・大会参加申込書!B33)>0,様式Ⅰ・大会参加申込書!B33,"") | D21: =IF(LEN(様式Ⅰ・大会参加申込書!B34)>0,様式Ⅰ・大会参加申込書!B34,"") | F21: =IF(LEN(様式Ⅰ・大会参加申込書!B35)>0,様式Ⅰ・大会参加申込書!B35,"") | H21: =IF(LEN(様式Ⅰ・大会参加申込書!B36)>0,様式Ⅰ・大会参加申込書!B36,"") | J21: =IF(LEN(様式Ⅰ・大会参加申込書!B37)>0,様式Ⅰ・大会参加申込書!B37,"")
B24: =IF(LEN(様式Ⅰ・大会参加申込書!A38)>0,様式Ⅰ・大会参加申込書!A38,"") -> 21 | D24: =IF(LEN(様式Ⅰ・大会参加申込書!A39)>0,様式Ⅰ・大会参加申込書!A39,"") -> 22 | F24: =IF(LEN(様式Ⅰ・大会参加申込書!A40)>0,様式Ⅰ・大会参加申込書!A40,"") -> 23 | H24: =IF(LEN(様式Ⅰ・大会参加申込書!A41)>0,様式Ⅰ・大会参加申込書!A41,"") -> 24 | J24: =IF(LEN(様式Ⅰ・大会参加申込書!A42)>0,様式Ⅰ・大会参加申込書!A42,"") -> 25
A25: 氏名 | B25: =IF(LEN(様式Ⅰ・大会参加申込書!B38)>0,様式Ⅰ・大会参加申込書!B38,"") | D25: =IF(LEN(様式Ⅰ・大会参加申込書!B39)>0,様式Ⅰ・大会参加申込書!B39,"") | F25: =IF(LEN(様式Ⅰ・大会参加申込書!B40)>0,様式Ⅰ・大会参加申込書!B40,"") | H25: =IF(LEN(様式Ⅰ・大会参加申込書!B41)>0,様式Ⅰ・大会参加申込書!B41,"") | J25: =IF(LEN(様式Ⅰ・大会参加申込書!B42)>0,様式Ⅰ・大会参加申込書!B42,"")

Sheet 集合写真・ロゴ
A1: =様式Ⅰ・大会参加申込書!B3 -> 0
A2: 【チーム集合写真】
A3: チーム集合写真
A16: 【大学校章またはロゴ】 | I16: 参考：
A17: 大学校章またはロゴ
G27: 東海大学 | K27: 環太平洋大学

Sheet 様式Ⅱ②・登録外選手情報
A1: 登録外選手情報 | E1: 様式Ⅱ②
A3: NO. | B3: 氏名（性） | C3: 氏名（名） | D3: 学年 | E3: 出身高校
A4: 1
A5: 2
A6: 3
A7: 4
A8: 5
A9: 6
A10: 7
A11: 8
A12: 9
A13: 10
A14: 11
A15: 12
... A83: 80

Sheet 様式Ⅲ・引率責任者届出書
A1: 部長（監督）氏名のみ，入力してください。
A2: 様式 Ⅲ
A4: 引率責任者届出書の提出について
A5: 参加チーム各位
A6: 全日本学生ハンドボール連盟では、全日本学生選手権大会・東日本及び西日本学生選手権大会、その他の試合に関して引率責任者の帯同を義務付けている。したがって、今大会も引率責任者の帯同の無い大学の出場は認められない。 引率責任者は大学の教職員並びに大学の認めた監督・コーチが望ましいが、その部長・監督・コーチが帯同責任者として試合に参加できない場合は、所属学連理事長又は理事に依頼する事。 また、大会期間を通じて同一人物が引率することが望ましいが、諸事情によって複数名が試合日によって異なる引率を行ってもよい。また、何等かの事情で試合当日に引率責任者が入れ替わることや責任者不在の時には、速やかに大会本部に届け出て、代替手続きを取ること。 参加大学は、引率責任者を下記の用紙に記入して、提出期限（１０月１３日（火）の）までに大会事務局まで郵送必着すること。尚、引率責任者は当該試合の時には必ず試合会場にいなければならない。 大会の引率責任者が、登録されている役員の場合は、届出書の下の表に氏名のみ記入して下さい。
F7: 様式Ⅲ
A8: 引 率 責 任 者 届 出 書 （登録役員以外の場合のみ記入して下さい。）
A9: 全日本学生ハンドボール連盟 会 長 迫 本 淳 一 殿
A10: 高松宮記念杯男子第６９回・女子第６２回 令和８年度全日本学生ハンドボール選手権大会に登録している 部長・監督・コーチが引率責任者を務められないので、次の者を引率責任者として届け出いたします。
B12: 大学名
B14: 引率責任者氏名
A19: ※登録する部長・監督・コーチが引率責任者となっている場合には下表に氏名のみ記入のこと
A20: 試 合 日 | B20: 46340 | C20: 46341 | D20: 46342 | E20: 46343 | F20: 46344
A21: 氏 名

Sheet 様式Ⅳ・傷害保険加入者名簿
A1: 様式Ⅳ
A2: 傷害保険加入者名簿
A3: 大 学 名 | C3: 大学 （ 男女子 ）
A4: 記載責任者名 | G4: 携帯
A5: No | B5: 氏 名 | C5: フリガナ | D5: 生年月日 | E5: 年齢 | F5: 性別 | G5: No | H5: 氏 名 | I5: フリガナ | J5: 生年月日 | K5: 年齢 | L5: 性別
A6: 1 | G6: 51
A7: 2 | G7: 52
A8: 3 | G8: 53
A9: 4 | G9: 54
A10: 5 | G10: 55
A11: 6 | G11: 56
A12: 7 | G12: 57
A13: 8 | G13: 58
A14: 9 | G14: 59
A15: 10 | G15: 60
A16: 11 | G16: 61
A17: 12 | G17: 62
... A55: 50 | G55: 100

Sheet 様式Ⅴ・銀行振込確認書
K1: 様式Ⅴ
A2: 高松宮記念杯男子第６９回・女子第６２回 令和８年度全日本学生ハンドボール選手権大会 銀行振込確認書
A4: チ ー ム 名 | D4: 大学（ 男女子 ）
A6: 振 込 名 義 | M6: ⇒ 振込名義を「カタカナ」で入力してください
A7: 振 込 先 | D7: 銀 行 名 ： 京都中央信用金庫（銀行番号・１６１１） 支 店 名 ： 二軒茶屋支店（支店番号・０６３） 預金種別 ： 普通預金 口座番号 ： ０３４７２３５ 口座名義 ： 関西学生ハンドボール連盟 代表 井上朋広
A8: に、下記の金額を振り込みました。
A10: 振 込 明 細 | D10: 項 目 | F10: 明 細 | K10: 小 計
D11: 大会参加費 | K11: 75000
D12: 傷害保険金 | G12: × 500円 | K12: =F12*500 -> 0 | M12: ⇒ 人数（黄色枠内）のみ入力してください
D13: 合 計 | K13: =SUM(K11:L12) -> 75000
