Workbook

Sheet 様式Ⅰ・大会参加申込書
A1: 高松宮記念杯男子第６９回・女子第６２回 令和８年度全日本学生ハンドボール選手権大会 | R1: 様式Ⅰ
A2: 参加申込書
A3: 大学名 | H3: 大学所在地 | J3: 〒
H5: TEL | N5: FAX
A6: 連絡者名 | H6: 連絡者住所 | J6: 〒
H8: E-mail | N8: 携帯
A10: ユニフォームの色 | C10: CP① | E10: ／ | H10: GK① | I10: ／ | L10: ユニフォーム への広告 | O10: CP① | Q10: GK① | T10: ⇒ ユニフォームの色は、上／下で記入 ⇒ ユニフォームの広告は、プルダウン から選択
C11: CP② | E11: ／ | H11: GK② | I11: ／ | O11: CP② | Q11: GK②
C12: CP③ | E12: ／ | H12: GK③ | I12: ／ | O12: CP③ | Q12: GK③
A13: 役職① | F13: 氏名 | L13: 役職④ | O13: 氏名 | T13: ⇒ 役職名は、プルダウンから選択 ⇒ 全角で入力・姓名の間に空白を入力
A14: 役職② | F14: 氏名 | L14: 役職⑤ | O14: 氏名
A15: 役職③ | F15: 氏名 | L15: 役職⑥ | O15: 氏名
A17: 背番号 | B17: 氏 名 | G17: 生年月日 | I17: 学部 | L17: 学年 | M17: 出身高校 | P17: 身長(cm) | R17: 利腕
A18: 1 | B18: 送球 太郎 | G18: 38305 | I18: 経済 | L18: 4年 | M18: 送球学園大阪 | P18: 180 | R18: 左
A20: 半角で入力 | B20: 全角で入力 姓名の間に空白を入力 | G20: 半角で入力 | I20: 学部名のみ記入 | L20: プルダウンから選択 | M20: 高校名のみ記入 （高校は不要） | P20: 半角で入力 (cmは入力不要) | R20: プルダウンから選択
A44: ◇上記により本大会の参加を申し込みます。上記参加者の健康状態については身体に異常を認めず、またチーム責任者のもとにこの大会に参加することを同意します。
A46: 令和８年 月 日 | F46: 大学 | J46: チーム代表 | M46: （部長又は監督） | S46: 印
A47: ◇上記チームの標記大会参加を承認致します。
A49: 令和８年 月 日 | F49: 大学 | L49: （学長又は学生部長） | S49: 印
A50: ◇上記により、 | J50: 学連を代表し、標記大会の参加申し込みをいたします。
A52: 令和８年 月 日 | K52: 学生ハンドボール連盟会長 | S52: 印

Sheet 様式Ⅱ①・役員・登録選手情報
A1: 役員・登録選手情報 | G1: 様式Ⅱ①
A3: 【チーム役員】
B4: 役職名 | C4: 氏名
A5: 役職① | B5: =IF(LEN(様式Ⅰ・大会参加申込書!C13)>0,様式Ⅰ・大会参加申込書!C13,"") | C5: =IF(LEN(様式Ⅰ・大会参加申込書!G13)>0,様式Ⅰ・大会参加申込書!G13,"") | D5: =IF(LEN([1]様式Ⅰ・大会参加申込書!E13)>1,[1]様式Ⅰ・大会参加申込書!E13,"")
A6: 役職② | B6: =IF(LEN(様式Ⅰ・大会参加申込書!C14)>0,様式Ⅰ・大会参加申込書!C14,"") | C6: =IF(LEN(様式Ⅰ・大会参加申込書!G14)>0,様式Ⅰ・大会参加申込書!G14,"") | D6: =IF(LEN([1]様式Ⅰ・大会参加申込書!E14)>1,[1]様式Ⅰ・大会参加申込書!E14,"")
A7: 役職③ | B7: =IF(LEN(様式Ⅰ・大会参加申込書!C15)>0,様式Ⅰ・大会参加申込書!C15,"") | C7: =IF(LEN(様式Ⅰ・大会参加申込書!G15)>0,様式Ⅰ・大会参加申込書!G15,"") | D7: =IF(LEN([1]様式Ⅰ・大会参加申込書!E15)>1,[1]様式Ⅰ・大会参加申込書!E15,"")
A8: 役職④ | B8: =IF(LEN(様式Ⅰ・大会参加申込書!N13)>0,様式Ⅰ・大会参加申込書!N13,"") | C8: =IF(LEN(様式Ⅰ・大会参加申込書!P13)>0,様式Ⅰ・大会参加申込書!P13,"") | D8: =IF(LEN([1]様式Ⅰ・大会参加申込書!P13)>1,[1]様式Ⅰ・大会参加申込書!P13,"")
A9: 役職⑤ | B9: =IF(LEN(様式Ⅰ・大会参加申込書!N14)>0,様式Ⅰ・大会参加申込書!N14,"") | C9: =IF(LEN(様式Ⅰ・大会参加申込書!P14)>0,様式Ⅰ・大会参加申込書!P14,"") | D9: =IF(LEN([1]様式Ⅰ・大会参加申込書!P14)>1,[1]様式Ⅰ・大会参加申込書!P14,"")
A10: 役職⑥ | B10: =IF(LEN(様式Ⅰ・大会参加申込書!N15)>0,様式Ⅰ・大会参加申込書!N15,"") | C10: =IF(LEN(様式Ⅰ・大会参加申込書!P15)>0,様式Ⅰ・大会参加申込書!P15,"") | D10: =IF(LEN([1]様式Ⅰ・大会参加申込書!P15)>1,[1]様式Ⅰ・大会参加申込書!P15,"")
A12: 【登録選手】
A13: 選手
A14: 背番号 | B14: 氏名（性） | C14: 氏名（名） | D14: 学年 | E14: 身長 | F14: 利き腕 | G14: 出身校
A15: =IF(LEN(様式Ⅰ・大会参加申込書!A18)>0,様式Ⅰ・大会参加申込書!A18,"") -> 1 | B15: =IF(LEN(様式Ⅰ・大会参加申込書!B18)>0,LEFT(様式Ⅰ・大会参加申込書!B18,FIND(" ",様式Ⅰ・大会参加申込書!B18)),"") -> 送球 | C15: =IF(LEN(様式Ⅰ・大会参加申込書!B18)>0,RIGHT(様式Ⅰ・大会参加申込書!B18,FIND(" ",様式Ⅰ・大会参加申込書!B18)),"") -> 太郎 | D15: =IF(LEN(様式Ⅰ・大会参加申込書!L18)>0,様式Ⅰ・大会参加申込書!L18,"") -> 4年 | E15: =IF(LEN(様式Ⅰ・大会参加申込書!P18)>0,様式Ⅰ・大会参加申込書!P18,"") -> 180 | F15: =IF(LEN(様式Ⅰ・大会参加申込書!R18)>0,様式Ⅰ・大会参加申込書!R18,"") -> 左 | G15: =IF(LEN(様式Ⅰ・大会参加申込書!M18)>0,様式Ⅰ・大会参加申込書!M18,"") -> 送球学園大阪
I37: =IF(LEN(様式Ⅰ・大会参加申込書!B40)>0,様式Ⅰ・大会参加申込書!B40,"")
I38: =IF(LEN(様式Ⅰ・大会参加申込書!B41)>0,様式Ⅰ・大会参加申込書!B41,"")
I39: =IF(LEN(様式Ⅰ・大会参加申込書!B42)>0,様式Ⅰ・大会参加申込書!B42,"")

Sheet 様式Ⅱ②・登録外選手情報
A1: 登録外選手情報 | E1: 様式Ⅱ②
A3: NO. | B3: 氏名（性） | C3: 氏名（名） | D3: 学年 | E3: 出身高校
A4: 1
A5: 2 | B5: 全角で入力 | C5: 全角で入力 | D5: プルダウンから選択 | E5: 高校名のみ記入 （高校は不要）
A6: 3
A7: 4
A8: 5
A9: 6
A10: 7
A11: 8
A12: 9
A13: 10
A14: 11
A15: 12
A16: 13
A17: 14
... A83: 80
